BEGIN:VCALENDAR
VERSION:2.0
PRODID:-//Formación Programada - ECPv6.3.6//NONSGML v1.0//EN
CALSCALE:GREGORIAN
METHOD:PUBLISH
X-WR-CALNAME:Formación Programada
X-ORIGINAL-URL:https://formacionprogramada.net
X-WR-CALDESC:Eventos para Formación Programada
REFRESH-INTERVAL;VALUE=DURATION:PT1H
X-Robots-Tag:noindex
X-PUBLISHED-TTL:PT1H
BEGIN:VTIMEZONE
TZID:Europe/Paris
BEGIN:DAYLIGHT
TZOFFSETFROM:+0100
TZOFFSETTO:+0200
TZNAME:CEST
DTSTART:20260329T010000
END:DAYLIGHT
BEGIN:STANDARD
TZOFFSETFROM:+0200
TZOFFSETTO:+0100
TZNAME:CET
DTSTART:20261025T010000
END:STANDARD
END:VTIMEZONE
BEGIN:VEVENT
DTSTART;VALUE=DATE:20260421
DTEND;VALUE=DATE:20260422
DTSTAMP:20260421T011254
CREATED:20190425T101000Z
LAST-MODIFIED:20260406T094632Z
UID:4733-1776729600-1776815999@formacionprogramada.net
SUMMARY:Curso Online: Cómo organizar e impartir la Formación Programada (Bonificada)
DESCRIPTION:Aenoa organiza este curso técnico que dará a conocer todos los aspectos relacionados con la Formación Programada (Bonificada) desde los conceptos más básicos como grupo\, acción formativa\, comunicación de inicio y fin de una formación\, custodia de documentación…hasta los procedimientos más complejos como los desgloses de costes en la facturación\, tipos de inspecciones\, alegaciones… \nDirigido a: Profesionales del sector de la formación con responsabilidad en áreas de coordinación\, formación\, comerciales\, gestión documental\, pedagógicas\, elaboración de contenidos\, técnicas\, tutores y jefes de estudios\, gestores de proyectos\, proveedores de soluciones y servicios de formación a empresas\, coordinadores de formación on line\,…RRHH de grandes empresas\, asesores\, consultoras de formación\,… \nSi desea más información\, solicítela en el email gestion@aenoa.com \nCurso Online. Duración 45h.  \nContenidos: \nMódulo 1:\n– Introducción a la Formación Profesional para el Empleo.\n– Financiación del sistema de formación.\n– Aspectos básicos de la Formación Programada por las empresas.\n– Gestión de las Acciones Formativas. \nMódulo 2:\n– Cofinanciación Privada y RLT.\n– Aspectos técnicos de la Formación Bonificada.\n– Formación Online. Seguimiento tutorial. Requisitos y funciones de los tutores.\n– Justificación económica. Imputación de costes. Facturación.\n– Seguimiento y control de los recursos. \nMódulo 3:\n– Características de las entidades organizadoras y entidades de formación.\n– Documentos de gestión de la Formación Programada.\n– Herramientas de control en el aplicativo de Formación Programada.\n– Trazabilidad y control de la Formación Programada (Bonificada) \nMódulo 4:\n– Aspectos generales del procedimientos de comprobación e inspección.\n– Características del seguimiento de los técnicos del SEPE. Caso modalidd presencial y online.\n– Conciliaciones no conforme del SEPE y Fundae. Principales motivos de conciliación no conforme.\n– Aspectos importantes para vigilar y no sufrir una conciliación no conforme. \nMódulo 5: \n– Nuevo aplicativo de Fundae a comienzo de cada año.\n– Nuevas normativas del Sepe (Ministerio de Trabajo).\n– Aula Virtual y Formación Bimodal.\n– La firma digital y los medios electrónicos en la Formación Bonificada.\n– El uso de los medios electrónicos según Fundae. CASO PRÁCTICO FINAL. \n  \nCoste de la Formación\n370 euros. Bonificable.\nIncluye: Formación + 6 meses gratuitos de asesoramiento \n¿Estás pensando en inscribirte?\nFicha de inscripción. \n  \n Mas información\nFormularios
URL:https://formacionprogramada.net/evento/curso-online-como-organizar-e-impartir-la-formacion-programada-bonificada/
LOCATION:Plataforma Online\, España
ATTACH;FMTTYPE=image/webp:https://formacionprogramada.net/wp-content/uploads/2019/04/curso-como-organizar-e-impartir-la-formacion-programada-2025.webp
ORGANIZER;CN="AENOA":MAILTO:info@aenoa.com
END:VEVENT
BEGIN:VEVENT
DTSTART;VALUE=DATE:20260421
DTEND;VALUE=DATE:20260422
DTSTAMP:20260421T011254
CREATED:20230615T103107Z
LAST-MODIFIED:20260406T094719Z
UID:15588-1776729600-1776815999@formacionprogramada.net
SUMMARY:Curso: La IA aplicada a Docentes\, Profesores\, Tutores\, Educadores y RRHH
DESCRIPTION:La formación y su relación con la inteligencia artificial (IA). \nLa inteligencia artificial tiene el potencial de transformar la forma en que se lleva a cabo la formación y la educación\, brindando experiencias de aprendizaje más personalizadas\, eficientes y accesibles para los estudiantes. \nExploraremos cómo la IA está revolucionando el ámbito de la formación y cómo puede mejorar la experiencia de aprendizaje tanto para usuarios como para formadores. \nAenoa organiza este curso técnico donde aprender sobre esta nueva herramienta. \nDirigido a: Profesionales del sector de la formación con responsabilidad en áreas de coordinación\, formación\, comerciales\, gestión documental\, pedagógicas\, elaboración de contenidos\, técnicas\, tutores y jefes de estudios\, gestores de proyectos\, proveedores de soluciones y servicios de formación a empresas\, coordinadores de formación on line\,…RRHH de grandes empresas\, asesores\, consultoras de formación\,… \nSi desea más información\, solicítela en el email info@aenoa.com \n  \nCurso Modalidad: Teleformación (online) \nTotal 50 horas . \nAdemás 4 charlas mediante videoconferencia.   \nBonificable al 100% \n  \nContenidos: \nTema 1:INTRODUCCIÓN A LA INTELIGENCIA ARTIFICIAL. \nObjetivos.\nDefinición y conceptos básicos de Inteligencia Artificial.\nHistoria y evolución de la Inteligencia Artificial.\nLa IA aplicada a la Formación.\nRiesgos\, ética y legislación en Inteligencia Artificial.\nResumen.\nActividad Práctica.\nTest de evaluación. \nTema 2: EL APRENDIZAJE AUTOMÁTICO \nObjetivos\nConcepto de Machine Learning\nAplicaciones del aprendizaje automático\nFundamentos de Machine Learning: ciencia de datos\, redes neuronales y algoritmos\nMétodos y tipos de Machine Learning\nEl Deep Learning\nResumen\nActividad Práctica\nTest de evaluación \nTema 3: APLICACIONES DEL MACHINE LEARNING PARA LAS EMPRESAS \nObjetivos\nConcepto de Chatbot\nUtilidades de los Chatbots para las empresas\nEl ChatGPT\nPeople Analytics\nLa IA aplicada al Marketing\nEl Análisis Predictivo y la fidelización del cliente mediante el Machine Learning\nResumen\nActividad Práctica\nTest de evaluación \nTema 4: USOS DE LA INTELIGENCIA ARTIFICIAL EN EL SECTOR DE LA FORMACIÓN. \nObjetivos\nTutoría Artificial Inteligente\nProcesamiento del Lenguaje Natural\nIdentificación de nuevas temáticas de estudio\nGeneración de materiales de estudio personalizados\nEstudio de la competencia\nActividad Práctica\nTest de evaluación \nTema 5: HERRAMIENTAS DE INTELIGENCIA ARTIFICIAL PARA LAS EMPRESAS DE FORMACIÓN \nIntroducción\nLos Chatbots como herramientas de información\, tramitación y matriculación\nLos Chatbots como tutores personalizados para la docencia\nHerramientas de Analíticas de Aprendizaje\nHerramientas de Realidad Virtual y Realidad Aumentada\nTraductores automáticos\nCorreos Electrónicos personalizados y Encuestas\nGeneración de contenidos\nHerramientas para el Procesamiento del Lenguaje Natural\nActividad Práctica\nTest de evaluación \n  \nTema 6: APLICACIONES PRÁCTICAS DE LA IA \nObjetivos.\nEl modelo ChatGPT.\nDiferencias entre los modelos de ChatGPT.\nEl modelo de Google. Gémini.\nMicrosoft Copilot.\nEl modelo Claude.\nAplicaciones de Claude.\nOtros modelos de lenguaje.\nUso de Prompt\, RAG y otras técnicas.\nHerramientas de generación de imágenes.\nActividad Práctica.\nTest de evaluación \nFICHA DE INSCRIPCIÓN \n+ Información\nCoste de la Formación\n375 euros\nIncluye: Formación + material de apoyo y consulta + 6 meses gratuitos de asesoramiento.
URL:https://formacionprogramada.net/evento/la-ia-aplicada-docentes-profesores-tutores-rrhh/
ATTACH;FMTTYPE=image/webp:https://formacionprogramada.net/wp-content/uploads/2023/06/curso-la-ia-aplicada-a-docentes-profesores-rrhh-2025.webp
ORGANIZER;CN="AENOA":MAILTO:info@aenoa.com
END:VEVENT
END:VCALENDAR