BEGIN:VCALENDAR
VERSION:2.0
PRODID:-//Formación Programada - ECPv6.3.6//NONSGML v1.0//EN
CALSCALE:GREGORIAN
METHOD:PUBLISH
X-WR-CALNAME:Formación Programada
X-ORIGINAL-URL:https://formacionprogramada.net
X-WR-CALDESC:Eventos para Formación Programada
REFRESH-INTERVAL;VALUE=DURATION:PT1H
X-Robots-Tag:noindex
X-PUBLISHED-TTL:PT1H
BEGIN:VTIMEZONE
TZID:Europe/Paris
BEGIN:DAYLIGHT
TZOFFSETFROM:+0100
TZOFFSETTO:+0200
TZNAME:CEST
DTSTART:20260329T010000
END:DAYLIGHT
BEGIN:STANDARD
TZOFFSETFROM:+0200
TZOFFSETTO:+0100
TZNAME:CET
DTSTART:20261025T010000
END:STANDARD
END:VTIMEZONE
BEGIN:VEVENT
DTSTART;VALUE=DATE:20260422
DTEND;VALUE=DATE:20260423
DTSTAMP:20260422T012801
CREATED:20230126T095008Z
LAST-MODIFIED:20260406T094648Z
UID:15333-1776816000-1776902399@formacionprogramada.net
SUMMARY:Gestión de la Formación Bonificada Nivel II Superior (Experto)
DESCRIPTION:Aenoa organiza este curso técnico experto nivel superior para desarrollar los aspectos más complicados de la gestión de la Formación Bonificada\, desde las novedades para este año\, costes\, facturación\, justificación económica y bonificación\, los aspectos críticos de la Formación Programada\, trazabilidad\, seguimiento y control\, conciliación no conforme\, tipos de inspecciones\, alegaciones\, … \nDirigido a: Profesionales del sector de la formación con experiencia en formación bonificada\, gestores de formación con más de 2 años de experiencia\, tutores y jefes de estudios\, gestores de proyectos\, proveedores de soluciones y servicios de formación a empresas\, coordinadores de formación on line\,…RRHH de grandes empresas\, asesores\, consultoras de formación\,… \nSi desea más información\, solicítela en el email info@aenoa.com \nCurso Online. Duración 50 h.  \nContenidos: \nCONTENIDOS GENERALES: \n\nGestión\, organización e impartición de la Formación Bonificada.\nUso eficiente del aplicativo de Fundae. Novedades para este año.\nCostes\, facturación\, justificación económica y bonificación.\nAspectos críticos de la Formación Programada: RLT\, PIF\, grupos\,…\nTrazabilidad\, seguimiento y control. Conciliación No Conforme. Recursos.\n\nCONTENIDOS ESPECÍFICOS:\n1-GESTIÓN\, ORGANIZACIÓN E IMPARTICIÓN DE LA FORMACIÓN BONIFICADA. \nLo que indica la Normativa.\nAlgo más sobre Gestión de la Formación Bonificada.\nCómo comunicar el inicio y fin de los cursos.\nObligaciones de las empresas bonificadas y entidades organizadoras. \n2-USO EFICIENTE DEL APLICATIVO DE FUNDAE. NOVEDADES PARA ESTE AÑO. \nNuevo Aplicativo de Fundae.\nAspectos de la gestión que se mantienen.\nUsuarios\, Empresas y Acciones Formativas.\nLos Grupos Formativos en el aplicativo. \n3-COSTES\, FACTURACIÓN\, JUSTIFICACIÓN ECONÓMICA Y BONIFICACIÓN \nLos Costes de la Formación.\nCofinanciación privada de las empresas.\nImputación y justificación de costes.\nCaso Práctico de Costes. \n4-ASPECTOS CRÍTICOS DE LA FORMACIÓN PROGRAMADA \nEmpresas nueva creación. Nuevos centros de trabajo.\nGrupos de Empresas. Funcionamiento.\nContabilización en la Formación Bonificada.\nEl papel de la Representación Legal de los Trabajadores \n5-TRAZABILIDAD\, SEGUIMIENTO Y CONTROL. CONCILIACIÓN NO CONFORME. \nSeguimiento y control. Comprobación.\nControl de los centros de formación programada.\nSeguimiento de la Administración. Modalidad presencial y online.\nConciliaciones no conformes. Principales motivos e incidencias.\nAspectos importantes para vigilar y no sufrir una conciliación no conforme. Trazabilidad. \n6-IMPUTACIÓN Y FACTURACIÓN. DOCUMENTO C-10 Y B-1.\nJustificación de los costes: requisitos y documentos (facturas\, justificantes bancarios\, apuntes contables).\nFacturación de la formación: elementos esenciales. Anexos complementarios. El desglose de la factura de Formación Bonificada.\nJustificación de Costes en la modalidad de Autogestión. Imputación de costes en las grandes empresas.\nDocumento C-10. Certificado de costes salariales.\nResumen de costes B-1. Procedimientos para la imputación de costes. \nCoste de la Formación\n390 euros. Bonificable.\nIncluye: Formación + 6 meses gratuitos de asesoramiento \n¿Estás pensando en inscribirte?\nFicha de inscripción. \n  \n Mas información\nFormularios
URL:https://formacionprogramada.net/evento/curso-aenoa-gestion-de-la-formacion-bonificada-nivel-ii-superior-experto/
ATTACH;FMTTYPE=image/webp:https://formacionprogramada.net/wp-content/uploads/2023/01/curso-gestion-de-la-formacion-bonificada-nivel-superior-2025.webp
END:VEVENT
BEGIN:VEVENT
DTSTART;VALUE=DATE:20260422
DTEND;VALUE=DATE:20260423
DTSTAMP:20260422T012801
CREATED:20240112T130645Z
LAST-MODIFIED:20260406T094602Z
UID:15765-1776816000-1776902399@formacionprogramada.net
SUMMARY:Herramientas de IA para la gestión de las empresas
DESCRIPTION:Herramientas de IA para la gestión de las empresas \nEl potencial de la inteligencia artificial para revolucionar la formación es inmenso\, ofreciendo experiencias de aprendizaje personalizadas\, eficientes y accesibles para los alumnos. En este curso\, exploraremos las formas en que la IA está transformando el campo de la Formación y cómo puede enriquecer la experiencia de aprendizaje tanto para alumnos como para las empresas. \nAenoa organiza este curso técnico donde aprender sobre esta nueva herramienta. \nDirigido a: Profesionales del sector de la formación con responsabilidad en áreas de coordinación\, formación\, comerciales\, gestión documental\, pedagógicas\, elaboración de contenidos\, técnicas\, tutores y jefes de estudios\, gestores de proyectos\, proveedores de soluciones y servicios de formación a empresas\, coordinadores de formación on line\,…RRHH de grandes empresas\, asesores\, consultoras de formación\,… \nSi desea más información\, solicítela en el email info@aenoa.com \n  \nCurso Modalidad: Teleformación (online) \nTotal 50 horas . \nAdemás charlas mediante videoconferencia externas \nBonificable al 100% \nContenidos: \nTema 1:INTRODUCCIÓN A LA INTELIGENCIA ARTIFICIAL Y SUS HERRAMIENTAS DE UTILIDAD A LA GESTIÓN DE LA EMPRESA \nObjetivos.\nDefinición y conceptos básicos de Inteligencia Artificial.\nEtapas de la historia de la Inteligencia Artificial.\nEl Aprendizaje Automático.\nEl Deep Learning.\nPasado\, presente y futuro del Machine-Deep learning.\nLas herramientas de IA de aplicación a la gestión de las empresas.\nRiesgos\, ética y legislación en la Inteligencia Artificial.\nResumen.\nActividad Práctica.\nTest de evaluación. \nTema 2: EL CHATGPT \nObjetivos.\nResumen.\nIntroducción al ChatGPT.\nFuncionamiento y características del ChatGPT.\nAplicaciones y utilidades del ChatGPT para la gestión de las empresas.\nPrincipales instrucciones y recomendaciones de uso de ChatGPT.\nConsejos para aprovechar al máximo el ChatGPT.\nComandos útiles para el uso de ChatGPT\nConsideraciones éticas y limitaciones técnicas.\nCasos prácticos.\nActividades Prácticas.\nTest de evaluación. \nTema 3: OTRAS HERRAMIENTAS GENERALISTAS \nObjetivos.\nHerramientas alternativas al ChatGPT.\nGemini\, el Chatbot de Google.\nUso básico de Gemini.\nFunciones Gemini.\nMicrosoft Copilot Chat.\nUso básico de Copilot Chat.\nOtras herramientas: Claude 3.5 Sonnet.\nResumen.\nActividad Práctica.\nTest de evaluación. \nTema 4: EL DISEÑO VISUAL MEDIANTE LA IA: INFOGRAFÍAS\, PRESENTACIONES E IMÁGENES \nObjetivos.\nIntroducción.\nAportaciones de la IA a las necesidades de infografías de las empresas\nEjemplo: Canva.\nAportaciones de la IA para la creación de presentaciones.\nEjemplo: Google SlaidsAI y Gamma.\nAportaciones de la IA para generar o editar imágenes útiles para las empresas.\nEjemplo: Dalle 3 de Open AI\, PicWish\, Leonardo y Adobe Firefly\nResumen\nCasos prácticos.\nActividades Prácticas.\nTest de evaluación. \nTema 5: HERRAMIENTAS BASADAS EN LA IA PARA LA EDICIÓN DE AUDIO Y VIDEO \nObjetivos.\nLas herramientas de audio basadas en la Inteligencia Artificial y su utilidad para las empresas\nEjemplo ElevenLabs\nEjemplo Murf AI\nLas herramientas de Video basadas en la Inteligencia Artificial y su utilidad para las empresas\nEjemplo Pictory. Ia\nEjemplo Veed.io\nResumen.\nActividades Prácticas.\nTest de evaluación. \n  \nTema 6: OTRAS HERRAMIENTAS DE INTELIGENCIA ARTIFICIAL ÚTILES PARA LAS EMPRESAS. \nObjetivos.\nHerramientas de Inteligencia Artificial para texto y traducción y su utilidad para las empresas.\nEjemplo de traductor: DeepL.\nEjemplo de corrector de textos: Grammarly.\nHerramientas de IA específicas para la gestión de la empresa.\nEjemplo Quickbooks.\nEjemplo HubSpot Marketing.\nEjemplo Google Adds.\nResumen.\nActividades Prácticas.\nTest de evaluación. \n  \nFICHA DE INSCRIPCIÓN \n+ Información\nCoste de la Formación\n375 Euros\nIncluye: Formación + material de apoyo y consulta + 6 meses gratuitos de asesoramiento.
URL:https://formacionprogramada.net/evento/herramientas-ia-para-la-gestion-de-las-empresas/
ATTACH;FMTTYPE=image/webp:https://formacionprogramada.net/wp-content/uploads/2024/01/curso-heramientas-de-ia-para-la-gestion-de-la-empresas-2025.webp
END:VEVENT
BEGIN:VEVENT
DTSTART;VALUE=DATE:20260422
DTEND;VALUE=DATE:20260423
DTSTAMP:20260422T012801
CREATED:20260113T090631Z
LAST-MODIFIED:20260406T094738Z
UID:16389-1776816000-1776902399@formacionprogramada.net
SUMMARY:Curso Superior de Inteligencia Artificial aplicada a Oficinas y Despachos
DESCRIPTION:>>> Dossier Curso Superior IA en Despachos y Oficinas<<<\nDetalles del curso\nCurso Superior de Inteligencia Artificial aplicada a Oficinas y Despachos. \nEl Curso Superior de Inteligencia Artificial aplicada a Oficinas y Despachos: Kit de herramientas IA para la gestión administrativa\, está diseñado para transformar herramientas tecnológicas en motores de negocio efectivos. Esta formación avanzada se enfoca en la aplicación práctica y los desafíos reales del entorno administrativo y empresarial actual. Este curso es ideal para: \n\nPersonal administrativo de empresas\, despachos profesionales y asesorías: Que buscan optimizar sus tareas diarias y mejorar la eficiencia en la gestión de documentos.\nTécnicos y responsables de administración\, contabilidad\, fiscalidad y gestión laboral: Que necesitan automatizar procesos repetitivos y mejorar la precisión en sus análisis.\nProfesionales de oficinas y departamentos de apoyo a la dirección: Que asisten en la toma de decisiones y requieren herramientas ágiles para la comunicación y organización.\nAutónomos y pequeños empresarios: Que realizan las tareas administrativas de su propio negocio y desean ahorrar tiempo mediante el uso de la IA.\nPersonal de Recursos Humanos\, formación y gestión del talento: Que buscan modernizar los procesos de selección y el desarrollo profesional de sus equipos.\nCualquier profesional que desee actualizar sus competencias digitales: Personas interesadas en formarse en un área con amplia proyección de futuro para mejorar su empleabilidad.\n\nEste curso permite a los participantes identificar nuevas oportunidades de negocio\, optimizar procesos y tomar decisiones basadas en datos\, respondiendo a una demanda crítica del mercado donde se estima un incremento del 44% en la necesidad de expertos en IA para 2026. \nSolicita más información en: info@aenoa.com \nCurso con Diploma y acreditación de la UNED. Duración de 75 horas. \nContenidos del curso\nUnidad Didáctica 1. Gemini\, Google AI Studio y NotebookLM aplicado al trabajo administrativo.\n\nFuncionamiento y características principales de Gemini.\n\nHerramientas de Gemini: Nano\, Pro y Ultra.\nAplicaciones prácticas de Gemini en la empresa.\nUso básico de la interfaz de Gemini.\n\n\nIntroducción a Google AI Studio (El Laboratorio de la IA).\n\nCreación de Proyectos en Google AI Studio.\n Control de modelos y parámetros.\nUso del interfaz de Google AI Studio.\n\n\nUso de NotebookLM para trabajar con documentos.\n\nCreación de sources y notebooks.\nFuncionalidades clave de NotebookLM.\n\n\nAplicaciones de NotebookLM en formación y empresa.\n\nEjemplos de integración de Gemini y NotebookLM.\nCasos de uso avanzados (generación de plantillas y extracción de datos).\n\n\n\n  \nUnidad Didáctica 2. Copilot y ChatGPT aplicado al trabajo administrativo.\n\nMicrosoft Copilot en el trabajo administrativo.\n\nQué es Microsoft Copilot y en qué se diferencia de ChatGPT.\nAcceso desde Microsoft 365: Word\, Excel\, Outlook\, PowerPoint y Teams.\nCasos de uso integrados.\nUso administrativo de Copilot Chat.\nTest de evaluación continua.\n\n\nFuncionamiento y características principales de ChatGPT.\n\n¿Qué es ChatGPT y cómo se aplica en entornos administrativos?.\nModelos disponibles (GPT-3.5\, GPT-4\, versiones gratuitas y Plus).\nInterfaz de uso: versión web y apps integradas.\nEstructura eficaz del prompt: Rol\, Tarea\, Contexto y Formato.\nCasos de uso administrativos frecuentes (correos\, actas\, resúmenes\, informes).\n\n\nChatGPT como asistente documental y de organización.\n\nLectura y análisis de documentos administrativos con archivos adjuntos.\nReformulación\, resumen y extracción de datos.\nCreación de plantillas y formularios a partir de ejemplos.\nUso de GPTs personalizados para tareas recurrentes en la oficina.\n\n\nComparativa e integración entre ChatGPT y Copilot.\n\nCuando usar ChatGPT y cuándo Copilot.\nFlujo de trabajo mixto: Google Workspace + Microsoft 365.\n\n\n\n  \nUnidad Didáctica 3. Gestión Administrativa con Inteligencia Artificial.\n\nLa IA como asistente de oficina.\n\nEl papel de la IA en la oficina moderna: apoyo en la redacción\, el análisis y la organización.\nPrincipales utilidades para el administrativo: correos\, actas\, listados\, resúmenes y documentación interna.\nTécnicas de prompting efectivas para obtener resultados útiles en el trabajo administrativo.\n\n\nOrganización y gestión documental con IA.\n\nClasificación automática de documentos y creación de carpetas inteligentes.\nExtracción de datos clave de contratos\, actas\, informes o facturas.\nGeneración de resúmenes\, listados o fichas administrativas directamente desde documentos existentes.\n\n\nAutomatización de tareas y procesos administrativos.\n\n Identificación de tareas repetitivas que pueden automatizarse (registros\, avisos\, correos\, informes).\nDiseño de flujos de trabajo con IA: de la recepción de datos al informe final.\nAutomatización con hojas de cálculo inteligentes y conexión con correo electrónico.\n\n\nGeneración de informes\, comunicaciones y plantillas.\n\nCómo transformar datos en informes claros y bien estructurados.\nRedacción automática de actas\, comunicados\, correos e informes mensuales.\nCreación de plantillas reutilizables adaptadas al estilo corporativo.\n\n\n\n  \nUnidad Didáctica 4. Marketing Digital y Ventas con IA.\n\nFundamentos del marketing digital con inteligencia artificial.\n\nQué es el marketing digital y cómo ha evolucionado con la IA.\nTipos de estrategias digitales: inbound\, outbound y automatizadas.\nAplicaciones de la IA en el marketing digital: segmentación\, personalización y análisis del comportamiento del cliente.\nHerramientas gratuitas de IA aplicables a pequeñas empresas (ChatGPT\, Perplexity\, Skywork\, Canva Magic\, etc.).\n\n\nEstrategias de comunicación y redes sociales inteligentes.\n\nGestión de redes sociales con IA: planificación de contenidos y automatización.\nAnálisis del rendimiento y reputación digital con IA.\nCreación automática de contenido visual y textual para redes sociales.\n\n\nCaptación y gestión de leads mediante IA.\n\nQué es un lead y cómo se generan en entornos digitales.\nHerramientas gratuitas para automatizar el seguimiento y la clasificación de leads (HubSpot Free\, Zoho\, Tidio).\nEjemplo práctico: creación de un embudo de conversión automatizado con IA.\n\n\nAnálisis predictivo y ventas asistidas por IA.\n\nCómo la IA analiza el comportamiento del cliente para anticipar ventas y detectar tendencias.\nSistemas de recomendación y personalización de ofertas.\nHerramientas gratuitas de análisis predictivo y CRM inteligente (Google Analytics\, ChatGPT\, Zoho CRM\, etc.).\n\n\n\n  \nUnidad Didáctica 5. Gestión Fiscal\, Laboral y Jurídica con IA.\n\nIntroducción a la inteligencia artificial en la gestión fiscal\, laboral y jurídica.\n\nQué aporta la IA al trabajo administrativo en los ámbitos fiscal\, laboral y legal.\nProcesos y tareas que pueden automatizarse con herramientas de IA.\nVentajas y responsabilidades del uso de la IA en entornos oficiales.\n\n\nAplicación de la IA en los impuestos y la gestión fiscal.\n\nAutomatización de cálculos y recordatorios de obligaciones tributarias.\nUso de la IA para interpretar normativa fiscal y detectar cambios legislativos.\nGeneración de informes y simulaciones fiscales con herramientas gratuitas (ChatGPT\, Gemini\, Google Sheets IA).\n\n\nInteligencia artificial en la gestión laboral y de recursos humanos.\n\nCreación automatizada de contratos\, nóminas y comunicaciones laborales.\nOrganización inteligente de expedientes\, calendarios y turnos de trabajo.\nAplicaciones gratuitas de IA útiles en el área laboral (ChatGPT\, Gemini\, Grok\, Copilot\, etc.).\n\n\nLa IA en la legislación administrativa y el ámbito jurídico.\n\nUso de la IA para interpretar leyes\, reglamentos y procedimientos administrativos.\nGeneración de documentos legales y consultas automatizadas con IA.\n\n\n\n  \nUnidad Didáctica 6. IA aplicada a las tareas contables y económico-financieras.\n\nIntroducción a la IA en el trabajo contable y financiero.\n\nQué aporta la IA al área contable del administrativo.\nProcesos administrativo-contables que pueden automatizarse con IA.\nHerramientas de IA adecuadas para el área contable.\n\n\nIA aplicada a la gestión documental contable.\n\nOrganización inteligente de facturas y documentos.\nExtracción automática de datos contables.\nElaboración de asientos contables asistidos.\nTest de evaluación continua.\n\n\nIA para el análisis económico-financiero.\n\nAutomatización del análisis de ratios financieros.\n Elaboración de informes económicos automatizados.\nApoyo en presupuestos y previsiones.\n\n\nAnálisis estratégico y toma de decisiones con IA.\n\nAnálisis de eficiencia operativa con IA.\nAnálisis de riesgo financiero.\nAnálisis de mercado y tendencias económicas con IA.\n\n\n\n  \nUnidad Didáctica 7. IA aplicada a los RRHH y a la formación.\n\nIA para la gestión del talento y selección de personal.\n\nCribado inteligente y análisis de perfiles profesionales.\nApoyo en entrevistas y pruebas de selección.\n\n\nIA aplicada a la gestión de personas y clima laboral.\n\nAnálisis automatizado de encuestas de clima\, desempeño y satisfacción.\nComunicación interna con IA.\n\n\nTest de evaluación continua.\nIA en la Formación y el Desarrollo Profesional.\n\nCreación automatizada de materiales formativos.\nDiseño de itinerarios formativos personalizados.\nEvaluación automática del aprendizaje.\n\n\nIntegración avanzada de IA en RRHH: Casos profesionales.\n\nUso combinado de Gemini + NotebookLM para crear documentación oficial de RRHH\nCasos reales aplicables al administrativo de RRHH.\n\n\n\n  \n\n\n\nDetalles:\nDuración:\n\n\n\n\n\n\n\n75 horas\nModalidad:\nTeleformación (Online)\nPrecio:\n550€ (Curso 100% Bonificable)\n\n\n\nFicha Inscripción (enviar a info@aenoa.com) \n Mas información\nFormularios
URL:https://formacionprogramada.net/evento/curso-superior-de-inteligencia-artificial-aplicada-a-oficinas-y-despachos/
ATTACH;FMTTYPE=image/webp:https://formacionprogramada.net/wp-content/uploads/2026/01/curso-superior-de-inteligencia-artificial-aplicada-a-oficinas-y-despachos.webp
END:VEVENT
END:VCALENDAR