BEGIN:VCALENDAR
VERSION:2.0
PRODID:-//Formación Programada - ECPv6.3.6//NONSGML v1.0//EN
CALSCALE:GREGORIAN
METHOD:PUBLISH
X-WR-CALNAME:Formación Programada
X-ORIGINAL-URL:https://formacionprogramada.net
X-WR-CALDESC:Eventos para Formación Programada
REFRESH-INTERVAL;VALUE=DURATION:PT1H
X-Robots-Tag:noindex
X-PUBLISHED-TTL:PT1H
BEGIN:VTIMEZONE
TZID:Europe/Paris
BEGIN:DAYLIGHT
TZOFFSETFROM:+0100
TZOFFSETTO:+0200
TZNAME:CEST
DTSTART:20260329T010000
END:DAYLIGHT
BEGIN:STANDARD
TZOFFSETFROM:+0200
TZOFFSETTO:+0100
TZNAME:CET
DTSTART:20261025T010000
END:STANDARD
END:VTIMEZONE
BEGIN:VEVENT
DTSTART;VALUE=DATE:20260505
DTEND;VALUE=DATE:20260506
DTSTAMP:20260425T045350
CREATED:20190425T101000Z
LAST-MODIFIED:20260423T091953Z
UID:4733-1777939200-1778025599@formacionprogramada.net
SUMMARY:Curso Online: Cómo organizar e impartir la Formación Programada (Bonificada)
DESCRIPTION:Aenoa organiza este curso técnico que dará a conocer todos los aspectos relacionados con la Formación Programada (Bonificada) desde los conceptos más básicos como grupo\, acción formativa\, comunicación de inicio y fin de una formación\, custodia de documentación…hasta los procedimientos más complejos como los desgloses de costes en la facturación\, tipos de inspecciones\, alegaciones… \nDirigido a: Profesionales del sector de la formación con responsabilidad en áreas de coordinación\, formación\, comerciales\, gestión documental\, pedagógicas\, elaboración de contenidos\, técnicas\, tutores y jefes de estudios\, gestores de proyectos\, proveedores de soluciones y servicios de formación a empresas\, coordinadores de formación on line\,…RRHH de grandes empresas\, asesores\, consultoras de formación\,… \nSi desea más información\, solicítela en el email gestion@aenoa.com \nCurso Online. Duración 45h.  \nContenidos: \nMódulo 1:\n– Introducción a la Formación Profesional para el Empleo.\n– Financiación del sistema de formación.\n– Aspectos básicos de la Formación Programada por las empresas.\n– Gestión de las Acciones Formativas. \nMódulo 2:\n– Cofinanciación Privada y RLT.\n– Aspectos técnicos de la Formación Bonificada.\n– Formación Online. Seguimiento tutorial. Requisitos y funciones de los tutores.\n– Justificación económica. Imputación de costes. Facturación.\n– Seguimiento y control de los recursos. \nMódulo 3:\n– Características de las entidades organizadoras y entidades de formación.\n– Documentos de gestión de la Formación Programada.\n– Herramientas de control en el aplicativo de Formación Programada.\n– Trazabilidad y control de la Formación Programada (Bonificada) \nMódulo 4:\n– Aspectos generales del procedimientos de comprobación e inspección.\n– Características del seguimiento de los técnicos del SEPE. Caso modalidd presencial y online.\n– Conciliaciones no conforme del SEPE y Fundae. Principales motivos de conciliación no conforme.\n– Aspectos importantes para vigilar y no sufrir una conciliación no conforme. \nMódulo 5: \n– Nuevo aplicativo de Fundae a comienzo de cada año.\n– Nuevas normativas del Sepe (Ministerio de Trabajo).\n– Aula Virtual y Formación Bimodal.\n– La firma digital y los medios electrónicos en la Formación Bonificada.\n– El uso de los medios electrónicos según Fundae. CASO PRÁCTICO FINAL. \n  \nCoste de la Formación\n370 euros. Bonificable.\nIncluye: Formación + 6 meses gratuitos de asesoramiento \n¿Estás pensando en inscribirte?\nFicha de inscripción. \n  \n Mas información\nFormularios
URL:https://formacionprogramada.net/evento/curso-online-como-organizar-e-impartir-la-formacion-programada-bonificada/
LOCATION:Plataforma Online\, España
ATTACH;FMTTYPE=image/webp:https://formacionprogramada.net/wp-content/uploads/2019/04/curso-como-organizar-e-impartir-la-formacion-programada-2025.webp
ORGANIZER;CN="AENOA":MAILTO:info@aenoa.com
END:VEVENT
END:VCALENDAR