BEGIN:VCALENDAR
VERSION:2.0
PRODID:-//Formación Programada - ECPv6.3.6//NONSGML v1.0//EN
CALSCALE:GREGORIAN
METHOD:PUBLISH
X-WR-CALNAME:Formación Programada
X-ORIGINAL-URL:https://formacionprogramada.net
X-WR-CALDESC:Eventos para Formación Programada
REFRESH-INTERVAL;VALUE=DURATION:PT1H
X-Robots-Tag:noindex
X-PUBLISHED-TTL:PT1H
BEGIN:VTIMEZONE
TZID:Europe/Paris
BEGIN:DAYLIGHT
TZOFFSETFROM:+0100
TZOFFSETTO:+0200
TZNAME:CEST
DTSTART:20260329T010000
END:DAYLIGHT
BEGIN:STANDARD
TZOFFSETFROM:+0200
TZOFFSETTO:+0100
TZNAME:CET
DTSTART:20261025T010000
END:STANDARD
END:VTIMEZONE
BEGIN:VEVENT
DTSTART;VALUE=DATE:20260427
DTEND;VALUE=DATE:20260428
DTSTAMP:20260425T034610
CREATED:20240708T081137Z
LAST-MODIFIED:20260406T094747Z
UID:15962-1777248000-1777334399@formacionprogramada.net
SUMMARY:Chat GPT Herramientas prácticas
DESCRIPTION:Detalles del curso: \nAccede al curso de Inteligencia Artificial\, diseñado para autónomos\, emprendedores\, profesionales e innovadores. Desde principiantes entusiastas hasta profesionales experimentados\, todos encontrarán valor en nuestro enfoque práctico integral. Comenzando con los fundamentos esenciales\, le guiaremos a través de un viaje hacia aplicaciones avanzadas y estratégicas de ChatGPT.\nDescubra cómo: potenciar la eficiencia operativa de su empresa\, crear nuevas experiencias con clientes\, mejorar la interacción con alumnos y usuarios. \nY como bono exclusivo\, profundizaremos en las nuevas capacidades de Claude 3.5 Sonnet\, manteniéndole a la vanguardia de los últimos avances en IA. ¡El futuro comienza aquí! \n  \n– Perfil público: Este curso está diseñado para una amplia variedad de profesionales\, particulares y entusiastas que desean comprender y aprovechar el poder de la conocida herramienta ChatGPT de  inteligencia artificial conversacional. Empresarios\, emprendedores\, profesionales de Marketing y comunicación\, formadores\, profesores\, particulares\, personal en Recursos Humanos\, gestores de proyectos y consultores\, desarrolladores y programadores\, responsables de atención al cliente\, etc… \nSi desea más información\, solicítela en el email info@aenoa.com \nDuración 50 horas. Contenidos y temario actualizado  \n*Además webinars adicionales  mediante videoconferencia. \nContenidos del curso: \n  \nUnidad Formativa 1 \nINTRODUCCIÓN A LAS APLICACIONES DE LA INTELIGENCIA ARTIFICIAL \n¿De qué trata el tema? \nMapa Mental de la unidad. \nObjetivos. \nSoftware necesario para desarrollar la unidad. \nIntroducción a la Inteligencia Artificial. \nAplicaciones de IA para textos. \nAplicaciones de IA para imágenes. \nAplicaciones de IA para audio. \nAplicaciones de IA para vídeos. \nResumen. \nActividad Práctica. \nTest de evaluación. \n¿Qué se ha explicado en esta unidad? \n  \nUnidad Formativa 2 \nEL CHATGPT \n¿De qué trata la unidad? \nMapa Mental de la unidad. \nObjetivos. \nSoftware necesario para desarrollar la unidad. \nIntroducción al ChatGPT. \nFuncionamiento y características del ChatGPT. \nAplicaciones y utilidades del ChatGPT para la gestión de las empresas. \nPrincipales instrucciones y recomendaciones de uso de ChatGPT. \nConsejos para aprovechar al máximo el ChatGPT. \nComandos útiles para el uso de ChatGPT \nConsideraciones éticas y limitaciones técnicas. \nResumen. \nActividad Práctica. \nTest de evaluación. \n¿Qué se ha explicado en esta unidad? \n  \nUnidad Formativa 3 \nAPLICACIONES PRÁCTICAS I \n¿De qué trata la unidad? \nMapa Mental de la unidad. \nObjetivos. \nSoftware necesario para desarrollar la unidad. \nPrompts. Ejemplos y generación. \nAplicaciones de ChatGPT. Ejemplos. \nAplicaciones para generación de contenidos. \nAplicaciones para redactar y comunicar. \nAplicaciones para programación\, web y análisis de datos. \nAplicación para el Marketing. \nActuar cómo un experto en. \nResumen. \nActividad Práctica. \nTest de evaluación. \n¿Qué se ha explicado en esta unidad? \n  \nUnidad Formativa 4 \nAPLICACIONES PRÁCTICAS II \n¿De qué trata la unidad? \nMapa Mental de la unidad. \nObjetivos. \nSoftware necesario para desarrollar la unidad. \nChatGPTs personalizados. Explorar GPT. \nChatGPTs productividad. Formación y otros. \nConfiguración y personalización ChatGPT. \nAplicaciones de GPTs. Ejemplos. \nAsistente y soporte personal. \nAplicación sector profesional y empresarial. \nAPI. Interfaz de Programación de Aplicaciones. \nResumen. \nActividad Práctica. \nTest de evaluación. \n¿Qué se ha explicado en esta unidad? \n  \nUnidad Formativa 5  \n  \nCHATGPT-5 ACTUALIZADO \n¿De qué trata la unidad? \nMapa Mental de la unidad. \nObjetivos. \nSoftware necesario para desarrollar la unidad. \nNovedades y evolución hacia GPT5. \nMetodologías y buenas prácticas en el uso de GPT5. \nAplicaciones cotidianas y prácticas de GPT5. \nGPT5 en investigación\, innovación y futuro de trabajo. \nAplicaciones avanzadas y tendencias futuras de GPT5. \nConsejos de uso óptimo de ChatGPT-5. \nResumen. \nActividad Práctica. \nTest de evaluación. \n¿Qué se ha explicado en esta unidad? \n\n  \n\n\n\nDetalles:\nDuración:\n\n\n\n\n\n\n\n50 horas\nModalidad:\nTeleformación (Online)\nPrecio:\n375€ (Curso 100% Bonificable)\n\n\n\nFicha Inscripción (enviar a info@aenoa.com) \n\n Mas información\nFormularios\n\n 
URL:https://formacionprogramada.net/evento/chat-gpt-herramientas-practicas/
ATTACH;FMTTYPE=image/webp:https://formacionprogramada.net/wp-content/uploads/2024/07/curso-bonificado-chat-gpt-herramientas-practicas-2025.webp
END:VEVENT
BEGIN:VEVENT
DTSTART;VALUE=DATE:20260430
DTEND;VALUE=DATE:20260501
DTSTAMP:20260425T034610
CREATED:20230615T103107Z
LAST-MODIFIED:20260423T091840Z
UID:15588-1777507200-1777593599@formacionprogramada.net
SUMMARY:Curso: La IA aplicada a Docentes\, Profesores\, Tutores\, Educadores y RRHH
DESCRIPTION:La formación y su relación con la inteligencia artificial (IA). \nLa inteligencia artificial tiene el potencial de transformar la forma en que se lleva a cabo la formación y la educación\, brindando experiencias de aprendizaje más personalizadas\, eficientes y accesibles para los estudiantes. \nExploraremos cómo la IA está revolucionando el ámbito de la formación y cómo puede mejorar la experiencia de aprendizaje tanto para usuarios como para formadores. \nAenoa organiza este curso técnico donde aprender sobre esta nueva herramienta. \nDirigido a: Profesionales del sector de la formación con responsabilidad en áreas de coordinación\, formación\, comerciales\, gestión documental\, pedagógicas\, elaboración de contenidos\, técnicas\, tutores y jefes de estudios\, gestores de proyectos\, proveedores de soluciones y servicios de formación a empresas\, coordinadores de formación on line\,…RRHH de grandes empresas\, asesores\, consultoras de formación\,… \nSi desea más información\, solicítela en el email info@aenoa.com \n  \nCurso Modalidad: Teleformación (online) \nTotal 50 horas . \nAdemás 4 charlas mediante videoconferencia.   \nBonificable al 100% \n  \nContenidos: \nTema 1:INTRODUCCIÓN A LA INTELIGENCIA ARTIFICIAL. \nObjetivos.\nDefinición y conceptos básicos de Inteligencia Artificial.\nHistoria y evolución de la Inteligencia Artificial.\nLa IA aplicada a la Formación.\nRiesgos\, ética y legislación en Inteligencia Artificial.\nResumen.\nActividad Práctica.\nTest de evaluación. \nTema 2: EL APRENDIZAJE AUTOMÁTICO \nObjetivos\nConcepto de Machine Learning\nAplicaciones del aprendizaje automático\nFundamentos de Machine Learning: ciencia de datos\, redes neuronales y algoritmos\nMétodos y tipos de Machine Learning\nEl Deep Learning\nResumen\nActividad Práctica\nTest de evaluación \nTema 3: APLICACIONES DEL MACHINE LEARNING PARA LAS EMPRESAS \nObjetivos\nConcepto de Chatbot\nUtilidades de los Chatbots para las empresas\nEl ChatGPT\nPeople Analytics\nLa IA aplicada al Marketing\nEl Análisis Predictivo y la fidelización del cliente mediante el Machine Learning\nResumen\nActividad Práctica\nTest de evaluación \nTema 4: USOS DE LA INTELIGENCIA ARTIFICIAL EN EL SECTOR DE LA FORMACIÓN. \nObjetivos\nTutoría Artificial Inteligente\nProcesamiento del Lenguaje Natural\nIdentificación de nuevas temáticas de estudio\nGeneración de materiales de estudio personalizados\nEstudio de la competencia\nActividad Práctica\nTest de evaluación \nTema 5: HERRAMIENTAS DE INTELIGENCIA ARTIFICIAL PARA LAS EMPRESAS DE FORMACIÓN \nIntroducción\nLos Chatbots como herramientas de información\, tramitación y matriculación\nLos Chatbots como tutores personalizados para la docencia\nHerramientas de Analíticas de Aprendizaje\nHerramientas de Realidad Virtual y Realidad Aumentada\nTraductores automáticos\nCorreos Electrónicos personalizados y Encuestas\nGeneración de contenidos\nHerramientas para el Procesamiento del Lenguaje Natural\nActividad Práctica\nTest de evaluación \n  \nTema 6: APLICACIONES PRÁCTICAS DE LA IA \nObjetivos.\nEl modelo ChatGPT.\nDiferencias entre los modelos de ChatGPT.\nEl modelo de Google. Gémini.\nMicrosoft Copilot.\nEl modelo Claude.\nAplicaciones de Claude.\nOtros modelos de lenguaje.\nUso de Prompt\, RAG y otras técnicas.\nHerramientas de generación de imágenes.\nActividad Práctica.\nTest de evaluación \nFICHA DE INSCRIPCIÓN \n+ Información\nCoste de la Formación\n375 euros\nIncluye: Formación + material de apoyo y consulta + 6 meses gratuitos de asesoramiento.
URL:https://formacionprogramada.net/evento/la-ia-aplicada-docentes-profesores-tutores-rrhh/
ATTACH;FMTTYPE=image/webp:https://formacionprogramada.net/wp-content/uploads/2023/06/curso-la-ia-aplicada-a-docentes-profesores-rrhh-2025.webp
ORGANIZER;CN="AENOA":MAILTO:info@aenoa.com
END:VEVENT
END:VCALENDAR